BEGIN:VCALENDAR
VERSION:2.0
PRODID:-//Crous Clermont Auvergne - ECPv6.15.20//NONSGML v1.0//EN
CALSCALE:GREGORIAN
METHOD:PUBLISH
X-WR-CALNAME:Crous Clermont Auvergne
X-ORIGINAL-URL:https://www.crous-clermont.fr
X-WR-CALDESC:Évènements pour Crous Clermont Auvergne
REFRESH-INTERVAL;VALUE=DURATION:PT1H
X-Robots-Tag:noindex
X-PUBLISHED-TTL:PT1H
BEGIN:VTIMEZONE
TZID:Europe/Paris
BEGIN:DAYLIGHT
TZOFFSETFROM:+0100
TZOFFSETTO:+0200
TZNAME:CEST
DTSTART:20220327T010000
END:DAYLIGHT
BEGIN:STANDARD
TZOFFSETFROM:+0200
TZOFFSETTO:+0100
TZNAME:CET
DTSTART:20221030T010000
END:STANDARD
BEGIN:DAYLIGHT
TZOFFSETFROM:+0100
TZOFFSETTO:+0200
TZNAME:CEST
DTSTART:20230326T010000
END:DAYLIGHT
BEGIN:STANDARD
TZOFFSETFROM:+0200
TZOFFSETTO:+0100
TZNAME:CET
DTSTART:20231029T010000
END:STANDARD
BEGIN:DAYLIGHT
TZOFFSETFROM:+0100
TZOFFSETTO:+0200
TZNAME:CEST
DTSTART:20240331T010000
END:DAYLIGHT
BEGIN:STANDARD
TZOFFSETFROM:+0200
TZOFFSETTO:+0100
TZNAME:CET
DTSTART:20241027T010000
END:STANDARD
END:VTIMEZONE
BEGIN:VEVENT
DTSTART;TZID=Europe/Paris:20231207T190000
DTEND;TZID=Europe/Paris:20231207T200000
DTSTAMP:20260422T192606
CREATED:20230830T141648Z
LAST-MODIFIED:20231130T133754Z
UID:9967-1701975600-1701979200@www.crous-clermont.fr
SUMMARY:Live in Room de Radio campus - Sixto Fredo
DESCRIPTION:[vc_row][vc_column][vc_column_text]Radio Campus pose ses micros à la Galerie Dolet pour son émission phare du jeudi soir ! \nAu programme : interview\, chroniques et showcase de Sixto Fredo. \n  \n \n  \nJeudi 7 décembre à 19 h \nGalerie Dolet – Bât A – Dolet \nGratuit[/vc_column_text][/vc_column][/vc_row]
URL:https://www.crous-clermont.fr/evenement/live-in-room-radio-campus/
LOCATION:Crous – site Dolet\, 25 rue Etienne-Dolet\, Clermont-Ferrand\, 63037\, France
CATEGORIES:Concert,Culture
END:VEVENT
END:VCALENDAR